
BEGIN:VCALENDAR
VERSION:2.0
PRODID:-//Tinga Tacos - ECPv6.15.20//NONSGML v1.0//EN
CALSCALE:GREGORIAN
METHOD:PUBLISH
X-ORIGINAL-URL:https://tingatacossgf.com
X-WR-CALDESC:Events for Tinga Tacos
REFRESH-INTERVAL;VALUE=DURATION:PT1H
X-Robots-Tag:noindex
X-PUBLISHED-TTL:PT1H
BEGIN:VTIMEZONE
TZID:UTC
BEGIN:STANDARD
TZOFFSETFROM:+0000
TZOFFSETTO:+0000
TZNAME:UTC
DTSTART:20180101T000000
END:STANDARD
END:VTIMEZONE
BEGIN:VEVENT
DTSTART;TZID=UTC:20191012T110000
DTEND;TZID=UTC:20191012T220000
DTSTAMP:20260421T234433
CREATED:20190821T221357Z
LAST-MODIFIED:20190821T222339Z
UID:5980-1570878000-1570917600@tingatacossgf.com
SUMMARY:Tinga @ Hold Fast Brewing
DESCRIPTION:Tinga will be celebrating Pride and serving up Tacos all day at Hold Fast Brewing!!! Make sure to come see us!!!
URL:https://tingatacossgf.com/event/tinga-hold-fast-brewing-4/
LOCATION:Hold Fast Brewing\, 235 North Kimbrough\, Springfield\, MO\, 65806
END:VEVENT
END:VCALENDAR