
BEGIN:VCALENDAR
VERSION:2.0
PRODID:-//Tinga Tacos - ECPv6.15.20//NONSGML v1.0//EN
CALSCALE:GREGORIAN
METHOD:PUBLISH
X-WR-CALNAME:Tinga Tacos
X-ORIGINAL-URL:https://tingatacossgf.com
X-WR-CALDESC:Events for Tinga Tacos
REFRESH-INTERVAL;VALUE=DURATION:PT1H
X-Robots-Tag:noindex
X-PUBLISHED-TTL:PT1H
BEGIN:VTIMEZONE
TZID:UTC
BEGIN:STANDARD
TZOFFSETFROM:+0000
TZOFFSETTO:+0000
TZNAME:UTC
DTSTART:20230101T000000
END:STANDARD
END:VTIMEZONE
BEGIN:VEVENT
DTSTART;TZID=UTC:20240607T143000
DTEND;TZID=UTC:20240607T183000
DTSTAMP:20260421T010304
CREATED:20240522T213653Z
LAST-MODIFIED:20240522T213653Z
UID:6539-1717770600-1717785000@tingatacossgf.com
SUMMARY:Tinga @ Marshfield Farmers' Market
DESCRIPTION:
URL:https://tingatacossgf.com/event/tinga-marshfield-farmers-market-2/
LOCATION:Young’s Shopping Center\, 900 W Washington St.\, Marshfield\, MO\, 65706\, United States
END:VEVENT
END:VCALENDAR