
BEGIN:VCALENDAR
VERSION:2.0
PRODID:-//Tinga Tacos - ECPv6.15.20//NONSGML v1.0//EN
CALSCALE:GREGORIAN
METHOD:PUBLISH
X-ORIGINAL-URL:https://tingatacossgf.com
X-WR-CALDESC:Events for Tinga Tacos
REFRESH-INTERVAL;VALUE=DURATION:PT1H
X-Robots-Tag:noindex
X-PUBLISHED-TTL:PT1H
BEGIN:VTIMEZONE
TZID:UTC
BEGIN:STANDARD
TZOFFSETFROM:+0000
TZOFFSETTO:+0000
TZNAME:UTC
DTSTART:20230101T000000
END:STANDARD
END:VTIMEZONE
BEGIN:VEVENT
DTSTART;TZID=UTC:20240612T113000
DTEND;TZID=UTC:20240612T140000
DTSTAMP:20260421T072505
CREATED:20240522T213942Z
LAST-MODIFIED:20240522T213942Z
UID:6545-1718191800-1718200800@tingatacossgf.com
SUMMARY:Tinga @ O'Reilly Headquarters
DESCRIPTION:
URL:https://tingatacossgf.com/event/tinga-oreilly-headquarters-2/
LOCATION:O’Reilly\, 455 S. Patterson\, Springfield\, MO\, 65802\, United States
END:VEVENT
END:VCALENDAR