
BEGIN:VCALENDAR
VERSION:2.0
PRODID:-//Tinga Tacos - ECPv6.15.20//NONSGML v1.0//EN
CALSCALE:GREGORIAN
METHOD:PUBLISH
X-ORIGINAL-URL:https://tingatacossgf.com
X-WR-CALDESC:Events for Tinga Tacos
REFRESH-INTERVAL;VALUE=DURATION:PT1H
X-Robots-Tag:noindex
X-PUBLISHED-TTL:PT1H
BEGIN:VTIMEZONE
TZID:UTC
BEGIN:STANDARD
TZOFFSETFROM:+0000
TZOFFSETTO:+0000
TZNAME:UTC
DTSTART:20230101T000000
END:STANDARD
END:VTIMEZONE
BEGIN:VEVENT
DTSTART;TZID=UTC:20240621T170000
DTEND;TZID=UTC:20240621T190000
DTSTAMP:20260426T043244
CREATED:20240613T185617Z
LAST-MODIFIED:20240613T185617Z
UID:6575-1718989200-1718996400@tingatacossgf.com
SUMMARY:Tinga @ The Rush Food Truck Fridays
DESCRIPTION:
URL:https://tingatacossgf.com/event/tinga-the-rush-food-truck-fridays/
LOCATION:The Rush – Republic Aquatic Center\, 711 E Miller Rd\, Republic\, MO\, 65738\, United States
END:VEVENT
END:VCALENDAR