
BEGIN:VCALENDAR
VERSION:2.0
PRODID:-//Tinga Tacos - ECPv6.15.20//NONSGML v1.0//EN
CALSCALE:GREGORIAN
METHOD:PUBLISH
X-ORIGINAL-URL:https://tingatacossgf.com
X-WR-CALDESC:Events for Tinga Tacos
REFRESH-INTERVAL;VALUE=DURATION:PT1H
X-Robots-Tag:noindex
X-PUBLISHED-TTL:PT1H
BEGIN:VTIMEZONE
TZID:UTC
BEGIN:STANDARD
TZOFFSETFROM:+0000
TZOFFSETTO:+0000
TZNAME:UTC
DTSTART:20240101T000000
END:STANDARD
END:VTIMEZONE
BEGIN:VEVENT
DTSTART;VALUE=DATE:20250911
DTEND;VALUE=DATE:20250912
DTSTAMP:20260421T031915
CREATED:20250911T005101Z
LAST-MODIFIED:20250911T005101Z
UID:8022-1757548800-1757635199@tingatacossgf.com
SUMMARY:TINGA TACO THURSDAY!
DESCRIPTION:$1.75 Crusher & Tinga Tacos! *Store only!
URL:https://tingatacossgf.com/event/tinga-taco-thursday/
LOCATION:Tinga Tacos\, 308 W. McDaniel\, Springfield\, 65806\, United States
END:VEVENT
END:VCALENDAR