
BEGIN:VCALENDAR
VERSION:2.0
PRODID:-//Tinga Tacos - ECPv6.15.20//NONSGML v1.0//EN
CALSCALE:GREGORIAN
METHOD:PUBLISH
X-WR-CALNAME:Tinga Tacos
X-ORIGINAL-URL:https://tingatacossgf.com
X-WR-CALDESC:Events for Tinga Tacos
REFRESH-INTERVAL;VALUE=DURATION:PT1H
X-Robots-Tag:noindex
X-PUBLISHED-TTL:PT1H
BEGIN:VTIMEZONE
TZID:UTC
BEGIN:STANDARD
TZOFFSETFROM:+0000
TZOFFSETTO:+0000
TZNAME:UTC
DTSTART:20250101T000000
END:STANDARD
END:VTIMEZONE
BEGIN:VEVENT
DTSTART;TZID=UTC:20260524T120000
DTEND;TZID=UTC:20260524T190000
DTSTAMP:20260420T221750
CREATED:20260420T205048Z
LAST-MODIFIED:20260420T205048Z
UID:8311-1779624000-1779649200@tingatacossgf.com
SUMMARY:Tinga Food Truck @ 4by4 Fremont Hills
DESCRIPTION:
URL:https://tingatacossgf.com/event/tinga-food-truck-4by4-fremont-hills/
LOCATION:4By4 Brewing Fremont Hills\, 9003 Sawgrass Ave\, Nixa\, MO\, 65714\, United States
END:VEVENT
BEGIN:VEVENT
DTSTART;TZID=UTC:20260526T103000
DTEND;TZID=UTC:20260526T140000
DTSTAMP:20260420T221750
CREATED:20260409T140806Z
LAST-MODIFIED:20260409T140806Z
UID:8292-1779791400-1779804000@tingatacossgf.com
SUMMARY:Tinga Food Truck @ Mercy Ozark
DESCRIPTION:
URL:https://tingatacossgf.com/event/tinga-food-truck-mercy-ozark-18/
LOCATION:Mercy Orthopedic Hospital\, 3050 E River Bluff Blvd\, Ozark\, MO\, 65721\, United States
END:VEVENT
BEGIN:VEVENT
DTSTART;TZID=UTC:20260528T110000
DTEND;TZID=UTC:20260528T210000
DTSTAMP:20260420T221750
CREATED:20260420T205126Z
LAST-MODIFIED:20260420T205126Z
UID:8313-1779966000-1780002000@tingatacossgf.com
SUMMARY:Tinga Food Truck @ Wire Road Brewing
DESCRIPTION:
URL:https://tingatacossgf.com/event/tinga-food-truck-wire-road-brewing-4/
LOCATION:Wire Road Brewing Company\, 4453 S Timbercreek Ave\, Battlefield\, MO\, 65619
END:VEVENT
BEGIN:VEVENT
DTSTART;TZID=UTC:20260530T120000
DTEND;TZID=UTC:20260530T210000
DTSTAMP:20260420T221750
CREATED:20260420T205158Z
LAST-MODIFIED:20260420T205158Z
UID:8315-1780142400-1780174800@tingatacossgf.com
SUMMARY:Tinga Food Truck @ 4by4 Fremont Hills
DESCRIPTION:
URL:https://tingatacossgf.com/event/tinga-food-truck-4by4-fremont-hills-2/
LOCATION:4By4 Brewing Fremont Hills\, 9003 Sawgrass Ave\, Nixa\, MO\, 65714\, United States
END:VEVENT
END:VCALENDAR