
BEGIN:VCALENDAR
VERSION:2.0
PRODID:-//Tinga Tacos - ECPv6.15.20//NONSGML v1.0//EN
CALSCALE:GREGORIAN
METHOD:PUBLISH
X-ORIGINAL-URL:https://tingatacossgf.com
X-WR-CALDESC:Events for Tinga Tacos
REFRESH-INTERVAL;VALUE=DURATION:PT1H
X-Robots-Tag:noindex
X-PUBLISHED-TTL:PT1H
BEGIN:VTIMEZONE
TZID:UTC
BEGIN:STANDARD
TZOFFSETFROM:+0000
TZOFFSETTO:+0000
TZNAME:UTC
DTSTART:20190101T000000
END:STANDARD
END:VTIMEZONE
BEGIN:VEVENT
DTSTART;TZID=UTC:20200707T170000
DTEND;TZID=UTC:20200707T210000
DTSTAMP:20260423T202303
CREATED:20200209T193338Z
LAST-MODIFIED:20200209T193338Z
UID:6099-1594141200-1594155600@tingatacossgf.com
SUMMARY:Tinga @ Hold Fast
DESCRIPTION:Tinga Tacos will be serving up the Best Damn Tacos Springfield has to offer\, every Tuesday at Hold Fast Brewery. Come out and enjoy nice cold beers paired with Tinga!
URL:https://tingatacossgf.com/event/tinga-hold-fast-16/
LOCATION:Hold Fast Brewing\, 235 North Kimbrough\, Springfield\, MO\, 65806
END:VEVENT
BEGIN:VEVENT
DTSTART;TZID=UTC:20200714T170000
DTEND;TZID=UTC:20200714T210000
DTSTAMP:20260423T202303
CREATED:20200209T193424Z
LAST-MODIFIED:20200209T193424Z
UID:6101-1594746000-1594760400@tingatacossgf.com
SUMMARY:Tinga @ Hold Fast
DESCRIPTION:Tinga Tacos will be serving up the Best Damn Tacos Springfield has to offer\, every Tuesday at Hold Fast Brewery. Come out and enjoy nice cold beers paired with Tinga!
URL:https://tingatacossgf.com/event/tinga-hold-fast-17/
LOCATION:Hold Fast Brewing\, 235 North Kimbrough\, Springfield\, MO\, 65806
END:VEVENT
BEGIN:VEVENT
DTSTART;TZID=UTC:20200721T170000
DTEND;TZID=UTC:20200721T210000
DTSTAMP:20260423T202303
CREATED:20200209T193519Z
LAST-MODIFIED:20200209T193519Z
UID:6103-1595350800-1595365200@tingatacossgf.com
SUMMARY:Tinga @ Hold Fast
DESCRIPTION:Tinga Tacos will be serving up the Best Damn Tacos Springfield has to offer\, every Tuesday at Hold Fast Brewery. Come out and enjoy nice cold beers paired with Tinga!
URL:https://tingatacossgf.com/event/tinga-hold-fast-18/
LOCATION:Hold Fast Brewing\, 235 North Kimbrough\, Springfield\, MO\, 65806
END:VEVENT
BEGIN:VEVENT
DTSTART;TZID=UTC:20200728T170000
DTEND;TZID=UTC:20200728T210000
DTSTAMP:20260423T202303
CREATED:20200209T193603Z
LAST-MODIFIED:20200209T193603Z
UID:6105-1595955600-1595970000@tingatacossgf.com
SUMMARY:Tinga @ Hold Fast
DESCRIPTION:Tinga Tacos will be serving up the Best Damn Tacos Springfield has to offer\, every Tuesday at Hold Fast Brewery. Come out and enjoy nice cold beers paired with Tinga!
URL:https://tingatacossgf.com/event/tinga-hold-fast-19/
LOCATION:Hold Fast Brewing\, 235 North Kimbrough\, Springfield\, MO\, 65806
END:VEVENT
END:VCALENDAR